BEGIN:VCALENDAR
VERSION:2.0
PRODID:-// - ECPv6.15.20//NONSGML v1.0//EN
CALSCALE:GREGORIAN
METHOD:PUBLISH
X-ORIGINAL-URL:https://www.tahoefloats.com
X-WR-CALDESC:Events for 
REFRESH-INTERVAL;VALUE=DURATION:PT1H
X-Robots-Tag:noindex
X-PUBLISHED-TTL:PT1H
BEGIN:VTIMEZONE
TZID:UTC
BEGIN:STANDARD
TZOFFSETFROM:+0000
TZOFFSETTO:+0000
TZNAME:UTC
DTSTART:20170101T000000
END:STANDARD
END:VTIMEZONE
BEGIN:VEVENT
DTSTART;TZID=UTC:20180630T080000
DTEND;TZID=UTC:20180630T093000
DTSTAMP:20260424T002918
CREATED:20180524T212838Z
LAST-MODIFIED:20180607T142004Z
UID:542-1530345600-1530351000@www.tahoefloats.com
SUMMARY:SUP Yoga - Lake Tahoe
DESCRIPTION:Stand-up paddleboard yoga on beautiful Lake Tahoe. Join us for this beginner/intermediate class on the lake. We strive to provide cuing for advanced postures and always encourage our students to practice to their level. Challenge can be just what you’re looking for if you don’t mind getting wet! \nAll classes are BYOB-o-a-r-d. For rentals in Truckee\, visit Tahoe Sports Hub\, in Tahoe City\, visit Williard’s Sports Shop\, in King’s Beach\, visit Tahoe Paddle & Oar.
URL:https://www.tahoefloats.com/event/sup-yoga-lake-tahoe/
LOCATION:Common’s Beach\, 400 N Lake Blvd\, Tahoe City\, CA\, 96145\, United States
CATEGORIES:Yoga Classes
ATTACH;FMTTYPE=image/jpeg:https://www.tahoefloats.com/wp-content/uploads/2018/03/Downward-Facing-Dog.jpg
ORGANIZER;CN="Tahoe Floats":MAILTO:tahoefloats@gmail.com
END:VEVENT
BEGIN:VEVENT
DTSTART;TZID=UTC:20180629T080000
DTEND;TZID=UTC:20180629T093000
DTSTAMP:20260424T002918
CREATED:20180524T211816Z
LAST-MODIFIED:20180607T142025Z
UID:538-1530259200-1530264600@www.tahoefloats.com
SUMMARY:SUP Yoga - Donner Lake
DESCRIPTION:Stand-up paddleboard yoga on beautiful Donner Lake. Join us for this beginner/intermediate class on the lake. We strive to provide cuing for advanced postures and always encourage our students to practice to their level. Challenge can be just what you’re looking for if you don’t mind getting wet! \nAll classes are BYOB-o-a-r-d. For rentals in Truckee\, visit Tahoe Sports Hub\, in Tahoe City\, visit Williard’s Sports Shop\, in King’s Beach\, visit Tahoe Paddle & Oar.
URL:https://www.tahoefloats.com/event/sup-yoga-donner-lake/
LOCATION:Shoreline Park\, 14583 James Ave.\, Truckee\, CA\, 96161\, United States
CATEGORIES:Yoga Classes
ATTACH;FMTTYPE=image/jpeg:https://www.tahoefloats.com/wp-content/uploads/2018/03/Cow.jpg
ORGANIZER;CN="Tahoe Floats":MAILTO:tahoefloats@gmail.com
END:VEVENT
BEGIN:VEVENT
DTSTART;TZID=UTC:20180616T110000
DTEND;TZID=UTC:20180616T140000
DTSTAMP:20260424T002918
CREATED:20180524T213432Z
LAST-MODIFIED:20180608T144257Z
UID:546-1529146800-1529157600@www.tahoefloats.com
SUMMARY:June Herb Walk
DESCRIPTION:Come learn about natural after-sun skin care using wildcrafted plants found in Truckee. You will learn how to identify\, harvest\, and infuse wild plants to create skin-loving products. Participants will leave with infused oil and an easy after-sun serum recipe to make once the infused oil is ready. \nThe June Herb Walk weaves along Martis Creek in beautiful Martis Valley. The walk is 4 miles with several collection sites. We will stop about 3/4 of the way at a picnic table along a creek for a wildcrafted snack and infusion “party”. Please plan on 3 hours\, but some groups finish sooner. I will be available  for a half hour once we return to the cars to answer any questions anyone has. \nWhat to bring: sun hat\, sun screen\, water\, hiking shoes — this hike is in the sun. \nWhat I will bring: jars\, oil\, wildcrafted snacks
URL:https://www.tahoefloats.com/event/june-herb-walk/
LOCATION:Martis Creek Wildlife Area
CATEGORIES:Herb Classes
ATTACH;FMTTYPE=image/jpeg:https://www.tahoefloats.com/wp-content/uploads/2018/05/DSC09904.jpg
END:VEVENT
END:VCALENDAR